BEGIN:VCALENDAR
VERSION:2.0
PRODID:www.ohsu.edu
X-WR-TIMEZONE:America/Los_Angeles
BEGIN:VTIMEZONE
TZID:America/Los_Angeles
X-LIC-LOCATION:America/Los_Angeles
BEGIN:DAYLIGHT
TZNAME:PDT
TZOFFSETFROM:-0800
TZOFFSETTO:-0700
DTSTART:20260308T100000
END:DAYLIGHT
BEGIN:DAYLIGHT
TZNAME:PDT
TZOFFSETFROM:-0800
TZOFFSETTO:-0700
DTSTART:20270314T100000
END:DAYLIGHT
BEGIN:STANDARD
TZNAME:PST
TZOFFSETFROM:-0700
TZOFFSETTO:-0800
DTSTART:20251102T090000
END:STANDARD
BEGIN:STANDARD
TZNAME:PST
TZOFFSETFROM:-0700
TZOFFSETTO:-0800
DTSTART:20261101T090000
END:STANDARD
END:VTIMEZONE
BEGIN:VEVENT
UID:6d2162c0e946ba0712749d578f115e2d
DTSTART;TZID=America/Los_Angeles:20260430T140000
SEQUENCE:0
TRANSP:OPAQUE
DTEND;TZID=America/Los_Angeles:20260511T153000
URL:https://www.ohsu.edu/Register via compass.\n
SUMMARY:Getting Started in R and RStudio
CLASS:PUBLIC
DESCRIPTION:Join remotely:\n\n&lt;a href=&quot;https://ohsu.csod.com/ui/lms
 -learning-details/app/event/6a429842-8ba3-48d1-a0dd-0fca3eb197e8&quot; dat
 a-entity-type=&quot;external&quot;&gt;Register via compass.&lt;/a&gt;\n\n\
 n\n\n\n-------------\n\nContact:\n\nAmy Laird\n\nlaird@ohsu.edu\n\n\n\n---
 ----------\n\nMore information:\n\nhttps://www.ohsu.edu/node/9732841\n\n
DTSTAMP:20260417T201001Z
END:VEVENT
END:VCALENDAR